BEGIN:VCALENDAR
VERSION:2.0
PRODID:-//Contratero//ES
CALSCALE:GREGORIAN
METHOD:PUBLISH
BEGIN:VEVENT
UID:34/2023 SM PASS@contratero.es
DTSTAMP:20260421T111151Z
DTSTART:20230727T235959
DTEND:20230728T005959
SUMMARY:Cierre: Adquisición y contratación del servicio de manteni
DESCRIPTION:Adquisición y contratación del servicio de mantenimiento y asistencia técnica de la aplicación para el cálculo de instalaciones eléctricas para esta Excma. Diputación Provincial.\\n\\nOrganismo: Presidencia de la Diputación Provincial de Cáceres\\n\\nVer en Contratero: https://contratero.es/contracts/34/2023 SM PASS
URL:https://contratero.es/contracts/34/2023 SM PASS
STATUS:CONFIRMED
BEGIN:VALARM
TRIGGER:-P1D
ACTION:DISPLAY
DESCRIPTION:Recordatorio: Adquisición y contratación del
END:VALARM
END:VEVENT
END:VCALENDAR